BEGIN:VCALENDAR
VERSION:2.0
PRODID:-//CeNSE - ECPv6.15.17.1//NONSGML v1.0//EN
CALSCALE:GREGORIAN
METHOD:PUBLISH
X-WR-CALNAME:CeNSE
X-ORIGINAL-URL:https://www.cense.iisc.ac.in
X-WR-CALDESC:Events for CeNSE
REFRESH-INTERVAL;VALUE=DURATION:PT1H
X-Robots-Tag:noindex
X-PUBLISHED-TTL:PT1H
BEGIN:VTIMEZONE
TZID:Asia/Kolkata
BEGIN:STANDARD
TZOFFSETFROM:+0530
TZOFFSETTO:+0530
TZNAME:IST
DTSTART:20250101T000000
END:STANDARD
END:VTIMEZONE
BEGIN:VEVENT
DTSTART;TZID=Asia/Kolkata:20260424T160000
DTEND;TZID=Asia/Kolkata:20260424T170000
DTSTAMP:20260424T045413
CREATED:20260410T052615Z
LAST-MODIFIED:20260410T052820Z
UID:10250-1777046400-1777050000@www.cense.iisc.ac.in
SUMMARY:[Seminar] : Reconfigurable Microwave Devices using Insulator-Metal Phase Transition in Vanadium Dioxide
DESCRIPTION:Speaker: Dr Amit Verma\, Associate Professor\, Department of Electrical Engineering\, IIT Kanpur.\n\nTitle: "Reconfigurable Microwave Devices using Insulator-Metal Phase Transition in Vanadium Dioxide"\n\nDate: Friday\, 24th April 2026 - Time: 4 PM\n\nHi Tea & Coffee: 5 PM\n\nVenue: CeNSE Seminar Hall\n\nAbstract:\n\nVanadium dioxide (VO2) is a phase-transition material which exhibits a reversible structural and \nan associated insulator-metal phase transition at 68 ºC. This phase transition is accompanied by \na large change in VO2 resistivity and dielectric-response properties\, enabling a host of \nelectromagnetic switching applications from microwave to THz\, Infra-red\, and visible wavelengths. \nIn this talk\, several reconfigurable microwave devices realised using VO2 will be presented along \nwith detailed modelling of the experimentally observed characteristics.\n\nBiography:\n\nAmit Verma is currently an Associate Professor in the Department of Electrical Engineering and \nProf. T. R. Vishwanathan Young Faculty Fellow at IIT-Kanpur.  He also holds an Adjunct Faculty \nposition in the Material Science Program at IIT Kanpur. His research interests include thin film \ngrowth\, fabrication\,and characterisation of devices based on wide-bandgap semiconductors and \nphase-change materials.\n\n\nHost Faculty:  Prof. Sreetosh Goswami
URL:https://www.cense.iisc.ac.in/event/seminar-reconfigurable-microwave-devices-using-insulator-metal-phase-transition-in-vanadium-dioxide/
END:VEVENT
END:VCALENDAR