BEGIN:VCALENDAR
VERSION:2.0
PRODID:-//CeNSE - ECPv6.15.17.1//NONSGML v1.0//EN
CALSCALE:GREGORIAN
METHOD:PUBLISH
X-WR-CALNAME:CeNSE
X-ORIGINAL-URL:https://www.cense.iisc.ac.in
X-WR-CALDESC:Events for CeNSE
REFRESH-INTERVAL;VALUE=DURATION:PT1H
X-Robots-Tag:noindex
X-PUBLISHED-TTL:PT1H
BEGIN:VTIMEZONE
TZID:Asia/Kolkata
BEGIN:STANDARD
TZOFFSETFROM:+0530
TZOFFSETTO:+0530
TZNAME:IST
DTSTART:20240101T000000
END:STANDARD
END:VTIMEZONE
BEGIN:VEVENT
DTSTART;VALUE=DATE:20250602
DTEND;VALUE=DATE:20250614
DTSTAMP:20260424T012256
CREATED:20250722T130503Z
LAST-MODIFIED:20250722T130836Z
UID:8526-1748822400-1749859199@www.cense.iisc.ac.in
SUMMARY:Online Training Program on Semiconductor Fabrication and Characterization for students from Tribal Community (MoTA)
DESCRIPTION:
URL:https://www.cense.iisc.ac.in/mota_training/#new_tab
END:VEVENT
BEGIN:VEVENT
DTSTART;VALUE=DATE:20250616
DTEND;VALUE=DATE:20250625
DTSTAMP:20260424T012256
CREATED:20250722T130554Z
LAST-MODIFIED:20250722T130554Z
UID:8528-1750032000-1750809599@www.cense.iisc.ac.in
SUMMARY:Semiconductor skills development through SEMulator3D – Part 1 (Hands-on)
DESCRIPTION:
URL:https://www.cense.iisc.ac.in/lam_training/#new_tab
END:VEVENT
END:VCALENDAR