BEGIN:VCALENDAR
VERSION:2.0
PRODID:-//CeNSE - ECPv6.15.17.1//NONSGML v1.0//EN
CALSCALE:GREGORIAN
METHOD:PUBLISH
X-WR-CALNAME:CeNSE
X-ORIGINAL-URL:https://www.cense.iisc.ac.in
X-WR-CALDESC:Events for CeNSE
REFRESH-INTERVAL;VALUE=DURATION:PT1H
X-Robots-Tag:noindex
X-PUBLISHED-TTL:PT1H
BEGIN:VTIMEZONE
TZID:Asia/Kolkata
BEGIN:STANDARD
TZOFFSETFROM:+0530
TZOFFSETTO:+0530
TZNAME:IST
DTSTART:20240101T000000
END:STANDARD
END:VTIMEZONE
BEGIN:VEVENT
DTSTART;TZID=Asia/Kolkata:20250807T160000
DTEND;TZID=Asia/Kolkata:20250807T170000
DTSTAMP:20260423T190525
CREATED:20250729T073211Z
LAST-MODIFIED:20250729T084348Z
UID:8734-1754582400-1754586000@www.cense.iisc.ac.in
SUMMARY:[Seminar] : Mastering Research Publishing: Insights from the Editor’s Desk
DESCRIPTION:Talk title: Mastering Research Publishing: Insights from the Editor’s Desk\n\nSpeaker : Dr. Rohini Kitture\, Deputy Editor\, Wiley\n\nDate: 7th August 2025\, Thursday\n\nTime: 4 PM\n\nCoffee/Tea: 5 PM\n\nVenue: CeNSE Seminar Hall\, IISc\n\nAbstract:\nPublishing research is crucial in academia as it facilitates knowledge sharing and progress\nin various fields. However\, the intricacies of the publishing process often pose challenges\nfor researchers. This talk aims to provide valuable insights from an experienced editor to \nenhance the effectiveness of research publications.The session will begin with an overview \nof Wiley’s journals\, offering the attendees an idea of the range of potential venues for \ntheir research submissions. It will then delve into the detailed editorial review process\, \ncovering initial assessments and peer review\, and clarifying reasons for desk rejections. \nBy gaining a clearer understanding of these processes\, attendees will be better equipped \nto avoid common pitfalls\, thereby increasing the likelihood of their submissions being \nsuccessful. Drawing on practical tips from editors\,this talk aims to empower budding \nresearchers to improve their publication outcomes and maximize the impact of their work.\n\nBrief biopic:\n\nDr. Rohini Kitture\, Deputy Editor\, Small\, Small Methods\,\nSmall Structures\, Particle & Particle Systems\nCharacterization Physical Sciences Portfolio\, Wiley\n\n\n\nRohini Kitture earned her Ph.D. in Physics from the University of Pune\, with research focused on the \nsynthesis of nanomaterials for healthcare applications. She has held research positions as a \nvisiting scientist at the Karlsruhe Institute of Technology and as a postdoctoral research \nassociate at DIAT-DRDO Pune\, where she continued her work on nanomaterials in biomedical contexts.\n\nRohini joined Wiley in 2021 as a Senior Associate and was promoted to Associate Editor for the \nMaterials Science and Physics portfolio in 2023. She began her editorial journey with flagship \njournals such as Advanced Materials and Advanced Functional Materials\, contributing to peer review \ncoordination\, editorial decision-making\, and portfolio- based manuscript transfers.\n\nCurrently serving as Deputy Editor for Wiley’s Materials Science and Physics journals—including Small\,\nSmall Methods\, Small Structures\, and Particle & Particle Systems Characterization—Rohini is actively \ninvolved in editorial evaluation\,author engagement\, and community outreach. Based in India\, she \nleads initiatives to raise awareness of Wiley’s publishing ecosystem\, offering guidance on manuscript \npreparation\, research ethics\, and best practices in scientific publishing.\n\nShe has led the Small Science Symposium—the flagship event for the Small family of journals—twice in \nSouth Korea and most recently organized its first edition in India. As part of this symposium\, \nthe Young Innovator Awards are presented to promising researchers\, each receiving a USD 1000 cash \nprize and a certificate of recognition.\n\nRohini is also actively involved in the Rising Stars series\, which highlights exceptional \nearly-career researchers from around the world. Through her editorial and outreach initiatives\, \nshe remains committed to supporting the visibility and global recognition of researchers within \nthe international scientific community.\nHost Faculty: Prof. Sreetosh Goswami
URL:https://www.cense.iisc.ac.in/event/seminar-mastering-research-publishing-insights-from-the-editors-desk/
END:VEVENT
BEGIN:VEVENT
DTSTART;TZID=Asia/Kolkata:20250811T090000
DTEND;TZID=Asia/Kolkata:20250820T170000
DTSTAMP:20260423T190525
CREATED:20250730T104713Z
LAST-MODIFIED:20250730T104827Z
UID:8748-1754902800-1755709200@www.cense.iisc.ac.in
SUMMARY:Advanced Training Program on Semiconductor Fabrication and Characterization
DESCRIPTION:
URL:https://www.cense.iisc.ac.in/event/advanced-training-program-on-semiconductor-fabrication-and-characterization/
LOCATION:CeNSE\, IISc\, Bengaluru
END:VEVENT
BEGIN:VEVENT
DTSTART;TZID=Asia/Kolkata:20250814T110000
DTEND;TZID=Asia/Kolkata:20250814T120000
DTSTAMP:20260423T190525
CREATED:20250812T092401Z
LAST-MODIFIED:20250812T092436Z
UID:8915-1755169200-1755172800@www.cense.iisc.ac.in
SUMMARY:[Seminar] : Artificial Intelligence for Scientific Discovery
DESCRIPTION:Speaker: Dr. N. M. Anoop Krishnan\, Associate Professor\, Department of Civil Engineering\, \nYardi School of Artificial Intelligence (Joint Appt.)\, Indian Institute of Technology Delhi.\nTitle: "Artificial Intelligence for Scientific Discovery"\nDate: Thursday\, August 14th\, 2025 - Time: 11 AM\nTea & Coffee: 12 PM\nVenue: IDR Building G-01\n\nAbstract:\n\nThis talk explores three AI approaches transforming materials research: multimodal language \nmodels for information extraction\, universal force fields for simulations\, and agentic systems\n for autonomous experimentation. First\, we discuss about MaScQA and MaCBench benchmarks that \nevaluate materials science knowledge and multimodal capabilities in large language models\, \nrevealing significant limitations in current systems. Then\, we will discuss domain-specific language\n models MatSciBERT and LLaMat\, demonstrating state-of-the-art performance in materials literature mining.\n Second\, our work on universal force fields through equivariant graph neural networks shows that \nlower energy errors don’t guarantee stable molecular dynamics. We demonstrate how these could be improved\n through finetuning on experimental data. Finally\, we discuss about AILA (Artificially Intelligent Lab Assistant)\n that automates atomic force microscopy through LLM-driven agents. AFMBench evaluation reveals critical gaps \nbetween domain question-answering capabilities and practical agentic performance\, highlighting safety alignment\n concerns for autonomous laboratory systems. Together\, these approaches represent key pillars for end-to-end AI-driven\n scientific discovery\, while exposing fundamental challenges that must be addressed.\n\n\nBiography:\n\nProf. N. M. Anoop Krishnan is an Associate Professor in the Department of Civil Engineering\, \nIIT Delhi with a joint appointment in the Yardi School of Artificial Intelligence. Anoop completed \nhis Ph.D. in Civil Engineering from Indian Institute of Science Bangalore in 2015\, after which\, \nhe worked as a postdoctoral researcher in University of California Los Angeles from 2015 to 2017. \nPrior to this\, he completed his B.Tech. in Civil Engineering from National Institute of Technology \nCalicut in 2009. He works at the intersection of materials\, mechanics\, simulations\, and AI and ML with \nthe goal of accelerating materials modeling and discovery. He has published more than 120 international \npeer-reviewed journal publications and has 2 granted patents. He has won several awards including \nSir A. Pilkington Award by Society of Glass Technology\, UK (2024)\, Humboldt Fellowship (2023) for \nexperienced researchers\, Google research scholar award (2023)\,  W. A. Weyl International Glass Science \nAward by ICG and Penn State University (2022)\, Indian National Academy of Engineering Young Engineer \nAward (INAE YAE 2020)\, BRNS-DAE Young Scientist Award (2021)\, National Academy of Science India Young \nScientist Award (NASI YSA 2021)\, and Indian Academy of Sciences Associateship (2022).\n\n\nHost Faculty:  Prof. Pavan Nukala.
URL:https://www.cense.iisc.ac.in/event/seminar-artificial-intelligence-for-scientific-discovery/
END:VEVENT
BEGIN:VEVENT
DTSTART;VALUE=DATE:20250818
DTEND;VALUE=DATE:20250827
DTSTAMP:20260423T190525
CREATED:20250722T130739Z
LAST-MODIFIED:20250722T132903Z
UID:8532-1755475200-1756252799@www.cense.iisc.ac.in
SUMMARY:Foundational workshop on Semiconductor Manufacturing
DESCRIPTION:
URL:https://www.cense.iisc.ac.in/Foundationalworkshop/#new_tab
END:VEVENT
BEGIN:VEVENT
DTSTART;TZID=Asia/Kolkata:20250818T160000
DTEND;TZID=Asia/Kolkata:20250818T170000
DTSTAMP:20260423T190525
CREATED:20250812T051123Z
LAST-MODIFIED:20250812T051429Z
UID:8888-1755532800-1755536400@www.cense.iisc.ac.in
SUMMARY:[Seminar] : Wearable\, Nearable\, and Ingestible Bioelectronics for Precision Medicine
DESCRIPTION:Speaker: Dr. Sameer Sonkusale\, Professor\, Electrical and Computer Engineering\, Tufts University\n\nTitle: Wearable\, Nearable\, and Ingestible Bioelectronics for Precision Medicine\n\nDate : 18th August 2025\, 4 PM to 5 PM\n\nVenue : CeNSE Seminar Hall\n\nCoffee & Tea :5:00PM \n\nAbstract: \n\nThis talk presents a vision for "human-in-the-loop" precision medicine enabled by advances in \nwearable\, ingestible\, and microneedle-based bioelectronics. The speaker will introduce \npaper-based nearables for at-home biochemical sensing\, smart textile dressings that monitor wound\nstatus and deliver drugs on demand\, and microneedle systems for integrated sensing and therapy.\n\nHe will also highlight their ingestible lab-on-a-pill devices that noninvasively sample the \ngut microbiome with spatial resolution\, offering a new window into host-microbe interactions \nbeyond fecal analysis. Together\, these technologies open the door to personalized\, real-time\, \nand minimally invasive diagnostics and therapies—reshaping how we monitor and manage health.\n\nBio:\n\n\n\nSameer Sonkusale is a Professor of Electrical and Computer Engineering at Tufts University\, \nwhere he holds joint appointments in the departments of Biomedical Engineering and Chemical \nand Biological Engineering. He also served as a visiting professor at the Wyss Institute at \nHarvard University and Brigham and Women’s Hospital of the Harvard Medical School during \n2011-2012 and 2018-2019\, respectively. He currently directs an interdisciplinary research \ngroup focusing on devices\, circuits\, and systems for healthcare\, biology\, life sciences\, \nand the environment. Dr. Sonkusale earned his MS and PhD in Electrical Engineering from the \nUniversity of Pennsylvania and has received several awards\, including the National Science \nFoundation CAREER award in 2010. He was also honored with a Distinguished Alumni award from \nhis alma mater\, BITS Pilani. Dr. Sonkusale is an alumnus of the National Academy of Engineering \nUS Frontiers of Engineering meeting in 2015\, and the National Academy of Sciences Arab-America \nFrontiers meeting in 2014 and 2016. Dr. Sonkusale serves on the editorial boards of several prominent\n journals\, including Scientific Reports (Nature Publishing Group)\, IEEE Transactions on \nBiomedical Circuits and Systems\, PLoS One\, and Electronic Letters. He is a fellow of the AIMBE \nand senior member of National Academy of Inventors (NAI) and IEEE.\n\n\nHost Faculty: Prof. Navakanta Bhat
URL:https://www.cense.iisc.ac.in/event/seminar-wearable-nearable-and-ingestible-bioelectronics-for-precision-medicine/
END:VEVENT
BEGIN:VEVENT
DTSTART;TZID=Asia/Kolkata:20250825T090000
DTEND;TZID=Asia/Kolkata:20250903T170000
DTSTAMP:20260423T190525
CREATED:20250730T105018Z
LAST-MODIFIED:20250730T105018Z
UID:8751-1756112400-1756918800@www.cense.iisc.ac.in
SUMMARY:Advanced Training Program on Semiconductor Fabrication & Characterization
DESCRIPTION:
URL:https://www.cense.iisc.ac.in/event/advanced-training-program-on-semiconductor-fabrication-characterization/
LOCATION:CeNSE\, IISc\, Bengaluru
END:VEVENT
END:VCALENDAR